BEGIN:VCALENDAR
VERSION:2.0
PRODID:-//Kennel Estrellest - ECPv6.15.13//NONSGML v1.0//EN
CALSCALE:GREGORIAN
METHOD:PUBLISH
X-WR-CALNAME:Kennel Estrellest
X-ORIGINAL-URL:https://estrellest.com
X-WR-CALDESC:Events for Kennel Estrellest
REFRESH-INTERVAL;VALUE=DURATION:PT1H
X-Robots-Tag:noindex
X-PUBLISHED-TTL:PT1H
BEGIN:VTIMEZONE
TZID:Europe/Tallinn
BEGIN:DAYLIGHT
TZOFFSETFROM:+0200
TZOFFSETTO:+0300
TZNAME:EEST
DTSTART:20180325T010000
END:DAYLIGHT
BEGIN:STANDARD
TZOFFSETFROM:+0300
TZOFFSETTO:+0200
TZNAME:EET
DTSTART:20181028T010000
END:STANDARD
BEGIN:DAYLIGHT
TZOFFSETFROM:+0200
TZOFFSETTO:+0300
TZNAME:EEST
DTSTART:20190331T010000
END:DAYLIGHT
BEGIN:STANDARD
TZOFFSETFROM:+0300
TZOFFSETTO:+0200
TZNAME:EET
DTSTART:20191027T010000
END:STANDARD
BEGIN:DAYLIGHT
TZOFFSETFROM:+0200
TZOFFSETTO:+0300
TZNAME:EEST
DTSTART:20200329T010000
END:DAYLIGHT
BEGIN:STANDARD
TZOFFSETFROM:+0300
TZOFFSETTO:+0200
TZNAME:EET
DTSTART:20201025T010000
END:STANDARD
END:VTIMEZONE
BEGIN:VEVENT
DTSTART;TZID=Europe/Tallinn:20190518T000000
DTEND;TZID=Europe/Tallinn:20190519T235959
DTSTAMP:20260421T124336
CREATED:20190415T075617Z
LAST-MODIFIED:20190521T212040Z
UID:1700-1558137600-1558310399@estrellest.com
SUMMARY:ESLÜ PJK MV 2019 ja IGP võistlus (universaal)
DESCRIPTION:Eesti Saksa Lambakoerte Meistrivõistlused Põllujäljekatses 2019 ja ESLÜ IGP võistlus (osa universaalvõistlusest)\n\n\n\nKohtunik: pr. Tita Poikonen (Soome)Varrukamehed: Janar Klement (Eesti) ja Kalev Loit (Eesti) \n\n\n\nToimumiskoht: A osa: HarjumaaB ja C osa: Tagadi treeningkeskus \n\n\n\nVõistluste FB leht \n\n\n\nSelle võistluse IGP ja PJK tulemused lähevad arvesse Eesti Saksa Lambakoerte Ühingu AASTA PARIMA arvestuses!Selle võistluse tulemused lähevad arvesse EKL aasta sportkoera ja koerajuhi konkursil
URL:https://estrellest.com/uritus/eslu-pjk-mv-2019-ja-igp-voistlus-universaal/
CATEGORIES:ESLÜ Aasta Parima arvestuses,IGP,PJK
END:VEVENT
END:VCALENDAR