BEGIN:VCALENDAR
VERSION:2.0
PRODID:-//Kennel Estrellest - ECPv6.15.13//NONSGML v1.0//EN
CALSCALE:GREGORIAN
METHOD:PUBLISH
X-WR-CALNAME:Kennel Estrellest
X-ORIGINAL-URL:https://estrellest.com
X-WR-CALDESC:Events for Kennel Estrellest
REFRESH-INTERVAL;VALUE=DURATION:PT1H
X-Robots-Tag:noindex
X-PUBLISHED-TTL:PT1H
BEGIN:VTIMEZONE
TZID:Europe/Tallinn
BEGIN:DAYLIGHT
TZOFFSETFROM:+0200
TZOFFSETTO:+0300
TZNAME:EEST
DTSTART:20180325T010000
END:DAYLIGHT
BEGIN:STANDARD
TZOFFSETFROM:+0300
TZOFFSETTO:+0200
TZNAME:EET
DTSTART:20181028T010000
END:STANDARD
BEGIN:DAYLIGHT
TZOFFSETFROM:+0200
TZOFFSETTO:+0300
TZNAME:EEST
DTSTART:20190331T010000
END:DAYLIGHT
BEGIN:STANDARD
TZOFFSETFROM:+0300
TZOFFSETTO:+0200
TZNAME:EET
DTSTART:20191027T010000
END:STANDARD
BEGIN:DAYLIGHT
TZOFFSETFROM:+0200
TZOFFSETTO:+0300
TZNAME:EEST
DTSTART:20200329T010000
END:DAYLIGHT
BEGIN:STANDARD
TZOFFSETFROM:+0300
TZOFFSETTO:+0200
TZNAME:EET
DTSTART:20201025T010000
END:STANDARD
END:VTIMEZONE
BEGIN:VEVENT
DTSTART;TZID=Europe/Tallinn:20190504T000000
DTEND;TZID=Europe/Tallinn:20190505T235959
DTSTAMP:20260420T200908
CREATED:20190329T120941Z
LAST-MODIFIED:20190415T091558Z
UID:1117-1556928000-1557100799@estrellest.com
SUMMARY:Eesti Saksalambakoerte Peaerinäitus 2019
DESCRIPTION:SAKSA LAMBAKOERTE SERTIFIKAADIÕIGUSEGA ERINÄITUS  \n\n\n\nKohtunik: hr. Marco Oßmann (SV) Varrukamehed:  Rene Radala ja Andrij ŠevtšenkoToimumiskoht: Tagadi Koerte Treeningkeskus  kaart \n\n\n\nNäituse FB leht \n\n\n\nInfo ja registreerimine \n\n\n\nInfo and Registration
URL:https://estrellest.com/uritus/uus-uritus-4/
CATEGORIES:ESLÜ Aasta Parima arvestuses,SLK erinäitus
END:VEVENT
BEGIN:VEVENT
DTSTART;TZID=Europe/Tallinn:20190503T000000
DTEND;TZID=Europe/Tallinn:20190505T235959
DTSTAMP:20260420T200908
CREATED:20190415T071504Z
LAST-MODIFIED:20190415T091612Z
UID:1684-1556841600-1557100799@estrellest.com
SUMMARY:Noorhändlerid ESLÜ Peaerinäitusel
DESCRIPTION:Kohtunik: hr. Marco Oßmann (SV) Toimumiskoht: Tagadi Koerte Treeningkeskus  kaart \n\n\n\nNäituse FB leht \n\n\n\nInfo ja registreerimine
URL:https://estrellest.com/uritus/noorhandlerid-eslu-peaerinaitusel/
CATEGORIES:SLK erinäitus
END:VEVENT
END:VCALENDAR